BEGIN:VCALENDAR
VERSION:2.0
PRODID:-//Climares - ECPv6.15.20//NONSGML v1.0//EN
CALSCALE:GREGORIAN
METHOD:PUBLISH
X-WR-CALNAME:Climares
X-ORIGINAL-URL:https://www.climares.nl
X-WR-CALDESC:Events for Climares
REFRESH-INTERVAL;VALUE=DURATION:PT1H
X-Robots-Tag:noindex
X-PUBLISHED-TTL:PT1H
BEGIN:VTIMEZONE
TZID:Europe/Amsterdam
BEGIN:DAYLIGHT
TZOFFSETFROM:+0100
TZOFFSETTO:+0200
TZNAME:CEST
DTSTART:20240331T010000
END:DAYLIGHT
BEGIN:STANDARD
TZOFFSETFROM:+0200
TZOFFSETTO:+0100
TZNAME:CET
DTSTART:20241027T010000
END:STANDARD
BEGIN:DAYLIGHT
TZOFFSETFROM:+0100
TZOFFSETTO:+0200
TZNAME:CEST
DTSTART:20250330T010000
END:DAYLIGHT
BEGIN:STANDARD
TZOFFSETFROM:+0200
TZOFFSETTO:+0100
TZNAME:CET
DTSTART:20251026T010000
END:STANDARD
BEGIN:DAYLIGHT
TZOFFSETFROM:+0100
TZOFFSETTO:+0200
TZNAME:CEST
DTSTART:20260329T010000
END:DAYLIGHT
BEGIN:STANDARD
TZOFFSETFROM:+0200
TZOFFSETTO:+0100
TZNAME:CET
DTSTART:20261025T010000
END:STANDARD
END:VTIMEZONE
BEGIN:VEVENT
DTSTART;TZID=Europe/Amsterdam:20250911T140000
DTEND;TZID=Europe/Amsterdam:20250911T170000
DTSTAMP:20260420T145659
CREATED:20260204T092946Z
LAST-MODIFIED:20260220T094402Z
UID:917-1757599200-1757610000@www.climares.nl
SUMMARY:Climares launch
DESCRIPTION:On September 11\, we launched the Climares project during a hybrid meeting\, with participants gathering in-person at the International Institute of Social Studies in the Hague\, and others joining online. You can still watch the launch of the Climares project below.
URL:https://www.climares.nl/event/climares-launch/
LOCATION:Hybrid
END:VEVENT
END:VCALENDAR